BEGIN:VCALENDAR
PRODID:-//Solspace/Calendar 2.x//EN
VERSION:2.0
CALSCALE:GREGORIAN
BEGIN:VEVENT
UID:c60791157626154db040300fda00a6ed@solspace.com
DTSTAMP:20260419T223448
DTSTART:20261017T163000
DTEND:20261017T173000
SUMMARY:Pilchuck Glass School 48th Annual Auction & Gala
END:VEVENT
END:VCALENDAR
