BEGIN:VCALENDAR
PRODID:-//Solspace/Calendar 2.x//EN
VERSION:2.0
CALSCALE:GREGORIAN
BEGIN:VEVENT
UID:b4f9976a808677817619f2ca56795ad8@solspace.com
DTSTAMP:20260421T102342
DTSTART;VALUE=DATE:20260114
DTEND;VALUE=DATE:20260314
SUMMARY:The Scope: An MFA Exhibition
END:VEVENT
END:VCALENDAR
