BEGIN:VCALENDAR
PRODID:-//Solspace/Calendar 2.x//EN
VERSION:2.0
CALSCALE:GREGORIAN
BEGIN:VEVENT
UID:b618e1ea16934d15b4b762c2f4718ad9@solspace.com
DTSTAMP:20260421T105329
DTSTART;VALUE=DATE:20251106
DTEND;VALUE=DATE:20260309
SUMMARY:Glasstress Vicenza: A Selection
END:VEVENT
END:VCALENDAR
