BEGIN:VCALENDAR
PRODID:-//Solspace/Calendar 2.x//EN
VERSION:2.0
CALSCALE:GREGORIAN
BEGIN:VEVENT
UID:e4bf0b4400b1c30156906f1c76543815@solspace.com
DTSTAMP:20260420T053920
DTSTART;VALUE=DATE:20250531
DTEND;VALUE=DATE:20260420
SUMMARY:The Mad MAD World of Jonathan Adler
END:VEVENT
END:VCALENDAR
