BEGIN:VCALENDAR
PRODID:-//Solspace/Calendar 2.x//EN
VERSION:2.0
CALSCALE:GREGORIAN
BEGIN:VEVENT
UID:19d7dec218a5eceb6bea26ed967dd0c5@solspace.com
DTSTAMP:20260422T085541
DTSTART;VALUE=DATE:20250221
DTEND;VALUE=DATE:20260125
SUMMARY:On Fire Part II: Surveying Women in Glass in the Late-Twenti
 eth Century
END:VEVENT
END:VCALENDAR
