BEGIN:VCALENDAR
PRODID:-//Solspace/Calendar 2.x//EN
VERSION:2.0
CALSCALE:GREGORIAN
BEGIN:VEVENT
UID:530e42cd9b59610372eb4db5fe27bf61@solspace.com
DTSTAMP:20260419T123351
DTSTART;VALUE=DATE:20250426
DTEND;VALUE=DATE:20260201
SUMMARY:Walter Lieberman: Are you the guy who does the chalk drawing
 s in the Hot Shop?
END:VEVENT
END:VCALENDAR
