BEGIN:VCALENDAR
PRODID:-//Solspace/Calendar 2.x//EN
VERSION:2.0
CALSCALE:GREGORIAN
BEGIN:VEVENT
UID:6473430ffbb83d2bfc5691f4aaebebdf@solspace.com
DTSTAMP:20260422T122913
DTSTART;VALUE=DATE:20240727
DTEND;VALUE=DATE:20260118
SUMMARY:Greener Glass
END:VEVENT
END:VCALENDAR
