BEGIN:VCALENDAR
PRODID:-//Solspace/Calendar 2.x//EN
VERSION:2.0
CALSCALE:GREGORIAN
BEGIN:VEVENT
UID:f42cd0082171082ab8a686ed492c3506@solspace.com
DTSTAMP:20260421T085229
DTSTART;VALUE=DATE:20250206
DTEND;VALUE=DATE:20250802
SUMMARY:Joyce J. Scott: Messages at the Chrysler
END:VEVENT
END:VCALENDAR
